BEGIN:VCALENDAR
VERSION:2.0
PRODID:-//Quantic - ECPv6.14.2//NONSGML v1.0//EN
CALSCALE:GREGORIAN
METHOD:PUBLISH
X-ORIGINAL-URL:https://quantic.pub
X-WR-CALDESC:Events for Quantic
REFRESH-INTERVAL;VALUE=DURATION:PT1H
X-Robots-Tag:noindex
X-PUBLISHED-TTL:PT1H
BEGIN:VTIMEZONE
TZID:Europe/Athens
BEGIN:DAYLIGHT
TZOFFSETFROM:+0200
TZOFFSETTO:+0300
TZNAME:EEST
DTSTART:20260329T010000
END:DAYLIGHT
BEGIN:STANDARD
TZOFFSETFROM:+0300
TZOFFSETTO:+0200
TZNAME:EET
DTSTART:20261025T010000
END:STANDARD
END:VTIMEZONE
BEGIN:VEVENT
DTSTART;TZID=Europe/Athens:20261021T190000
DTEND;TZID=Europe/Athens:20261021T235900
DTSTAMP:20260423T054748
CREATED:20260324T150352Z
LAST-MODIFIED:20260324T150352Z
UID:23254-1792609200-1792627140@quantic.pub
SUMMARY:Swallow the Sun
DESCRIPTION:Pe 21 octombrie 2026\, Swallow the Sun revin la București pentru un concert în Quantic\, organizat de Final Step Productions\, la 9 ani de la ultima lor apariție aici\, în cadrul primei ediții Metal Gates Festival din 2017.\nVeterani ai scenei finlandeze și un nume esențial în zona de death-doom / melodic doom metal\, Swallow The Sun sunt recunoscuți pentru combinația lor de greutate\, melancolie și atmosferă copleșitoare. De-a lungul carierei\, trupa și-a consolidat statutul prin albume puternice și apariții live memorabile\, devenind o prezență de referință pentru publicul atras de latura întunecată și emoțională a metalului.\nInvitați: TBA\nBilete:100 lei – earlybird\, în limita a 100 de bilete120 lei – presale 1 – până pe 15.08.2026 inclusiv130 lei – presale 2 – până pe 20.10.2026 inclusiv150 lei – doar în ziua evenimentului – 21.10.2026\, online și la intrare\nLa aceste prețuri se adaugă comisionul de ticketing.Biletele sunt disponibile AICI 
URL:https://quantic.pub/eveniment/swallow-the-sun/
LOCATION:Quantic\, Soseaua Grozavesti\, nr. 82\, Sector 6\, Bucuresti\, 060752\, Romania
CATEGORIES:Concert
ATTACH;FMTTYPE=image/jpeg:https://quantic.pub/wp-content/uploads/2026/03/cover-4.jpg
END:VEVENT
END:VCALENDAR