BEGIN:VCALENDAR
VERSION:2.0
PRODID:-//Quantic - ECPv6.14.2//NONSGML v1.0//EN
CALSCALE:GREGORIAN
METHOD:PUBLISH
X-WR-CALNAME:Quantic
X-ORIGINAL-URL:https://quantic.pub
X-WR-CALDESC:Events for Quantic
REFRESH-INTERVAL;VALUE=DURATION:PT1H
X-Robots-Tag:noindex
X-PUBLISHED-TTL:PT1H
BEGIN:VTIMEZONE
TZID:UTC
BEGIN:STANDARD
TZOFFSETFROM:+0000
TZOFFSETTO:+0000
TZNAME:UTC
DTSTART:20250101T000000
END:STANDARD
END:VTIMEZONE
BEGIN:VEVENT
DTSTART;TZID=UTC:20250628T190000
DTEND;TZID=UTC:20250628T233000
DTSTAMP:20260421T105313
CREATED:20250626T063254Z
LAST-MODIFIED:20250626T064422Z
UID:21872-1751137200-1751153400@quantic.pub
SUMMARY:Finala Nationala Wacken Metal Battle Romania 2025
DESCRIPTION:Finala Națională Wacken Metal Battle România 2025 – 28 iunie\, Club Quantic\, București \nWacken Metal Battle România revine în forță și în 2025! Pe 28 iunie\, scena clubului Quantic din București va găzdui finala națională a celui mai important concurs dedicat trupelor metal underground din România. Cele șase trupe finaliste vor concura pentru șansa de a reprezenta România pe legendara scenă Wacken Open Air\, în Germania. \n\n\nTrupele finaliste 2025: \nDark Structure (Chișinău) – Deathcore intens\, cu riff-uri tăioase și breakdown-uri masive. Reprezentanți ai scenei extreme din Republica Moldova. \nDiluvian Collapse (Timișoara) – Death metal progresiv cu accente atmosferice\, cunoscuți pentru complexitatea compozițiilor și energia live. \nEra Divina (Iași) – Simfonic metal cu influențe gotice\, îmbinând eleganța orchestrala cu riffuri heavy și voci dramatice. \nHiraeth (Iași) – Post-metal melancolic și introspectiv\, caracterizat de construcții sonore elaborate și intensitate emoțională. \nImprudent (Iași) – Hardcore punk direct și brutal\, o voce nouă dar hotărâtă în peisajul underground estic. \nOverburn (Alba Iulia) – Heavy/thrash metal exploziv\, cu rădăcini în sound-ul old school și o atitudine de neînfrânat pe scenă. \nEvenimentul va fi completat de două concerte special guest\, susținute de: \nDoomsday Astronaut (Sibiu) – Câștigătorii Wacken Metal Battle România 2024\, o trupă de prog metal experimental ce combină elemente de post-rock\, alternative și doom într-o abordare cinematică și profundă. \nGraufar (Viena) – Reprezentanții Austriei la Wacken Metal Battle 2024\, cu un black metal atmosferic și ritualic\, inspirat din folclorul central-european. \nWacken Open Air este unul dintre cele mai mari și respectate festivaluri de muzică metal din lume. Găzduit anual în Germania\, atrage peste 80.000 de fani și celebrează toate subgenurile metalului. \nCopiii sub 10 ani au acces gratuit daca sunt insotiti de un adult cu bilet.
URL:https://quantic.pub/eveniment/finala-nationala-wacken-metal-battle-romania-2025/
LOCATION:Quantic\, Soseaua Grozavesti\, nr. 82\, Sector 6\, Bucuresti\, 060752\, Romania
CATEGORIES:Contest
ATTACH;FMTTYPE=image/jpeg:https://quantic.pub/wp-content/uploads/2025/06/493110568_1309041573905648_5335464124432993940_n.jpg
END:VEVENT
END:VCALENDAR